BEGIN:VCALENDAR
VERSION:2.0
PRODID:icalendar-ruby
CALSCALE:GREGORIAN
METHOD:PUBLISH
BEGIN:VEVENT
DTSTAMP:20260423T101912Z
UID:795-1620836@stphilipvictoria.ca
DTSTART:20260423T173000Z
DTEND:20260423T190000Z
CLASS:PUBLIC
CREATED:20260402T153824
DESCRIPTION:Book study resumes: spring session Wednesday evenings &amp\; Th
 ursday mornings\nThe book this spring will be James K.A. Smith’s On the 
 road with St Augustine: a real-world spirituality for restless hearts (201
 9). As before\, there will be two parallel groups:\nWednesday evenings sta
 rting April 22nd\, 7pm on Zoom\nThursday mornings starting April 23rd\, in
  person at church\, 10.30am following the 10am service\nCopies can be orde
 red through Karen Van Rheenen.
LAST-MODIFIED:20260402T153824
LOCATION:St Philip Anglican Church\, 2928 Eastdowne Rd / Zoom
SUMMARY:Book study: spring session 
URL;VALUE=URI:https://www.stphilipvictoria.ca/events/book-study-spring-sess
 ion/2026-04-23
ATTACH;FILENAME=320178_ontheroadstaugustinesmith_posts4.jpg;FMTTYPE=image/j
 peg:https://dq5pwpg1q8ru0.cloudfront.net/2026/04/02/22/38/24/ceddc714-ea99
 -49d1-b0db-0c58acf0c066/320178_ontheroadstaugustinesmith_posts4.jpg
END:VEVENT
END:VCALENDAR
