BEGIN:VCALENDAR
VERSION:2.0
PRODID:icalendar-ruby
CALSCALE:GREGORIAN
METHOD:PUBLISH
BEGIN:VEVENT
DTSTAMP:20260423T164912Z
UID:758-1752339@stphilipvictoria.ca
DTSTART:20260505T020000Z
DTEND:20260505T033000Z
CLASS:PUBLIC
CREATED:20260422T121542
DESCRIPTION:Bring your knitting project (or your mending basket) for a cosy
  stitching session at the Richmonds'. Enjoy a cup of tea and if it’s a b
 lustery night\, a fire in the fireplace. If you don’t know how to knit\,
  someone will be there to get you started\, or help you out if you get tan
 gled!\nContact Sharon for the address.\nImage by SweetMellowChill from 
 Pixabay
LAST-MODIFIED:20260422T121542
LOCATION:
SUMMARY:Drop-in Knitting Evening
URL;VALUE=URI:https://www.stphilipvictoria.ca/events/drop-in-knitting-eveni
 ng/2026-05-04
ATTACH;FILENAME=knitting-3423095_1920.jpg;FMTTYPE=image/jpeg:https://dq5pwp
 g1q8ru0.cloudfront.net/2025/11/17/21/18/01/686d9698-60f7-4497-925c-0fbdb6a
 77ad6/knitting-3423095_1920.jpg
END:VEVENT
END:VCALENDAR
