BEGIN:VCALENDAR
VERSION:2.0
PRODID:icalendar-ruby
CALSCALE:GREGORIAN
METHOD:PUBLISH
BEGIN:VEVENT
DTSTAMP:20260423T164425Z
UID:803-1706432@stphilipvictoria.ca
DTSTART:20260509T210000Z
DTEND:20260509T230000Z
CLASS:PUBLIC
CREATED:20260415T133904
DESCRIPTION:Celebrate Mothers' Day with an English Tea and live music at St
 . Peter's Church Hall on Saturday\, May 9 from 2:00 to 4:00 PM. Tickets ar
 e $45 and available for puchase at the parish office (cash\, cheque\, debi
 t or credit)\, by e-transfer to treasurer@stpeterduncan.ca (in the memo se
 ction add "Mothers' Day Tea")\, or cash only at Ten Old Books at the Dunca
 n Garage (330 Duncan St.). Gluten-free available by calling or emailing th
 e office at admin@stpeterduncan.ca \nFlower baskets will also be availabl
 e for purchase at the tea.\nProceeds from this fundraising event to benefi
 t St. Peter's Church and Cowichan Women Against Violence.
LAST-MODIFIED:20260415T133904
LOCATION:St. Peter Quamichan Church Hall 5800 Church Road  North Cowichan\,
  BC  Canada V9L 5M3 
SUMMARY:St. Peter Quamichan - Mothers Day Tea 
URL;VALUE=URI:https://www.stphilipvictoria.ca/events/st-peter-quamichan-mot
 hers-day-tea/2026-05-09
ATTACH;FILENAME=Mothers Day Tea 2026 poster sans serif font.png;FMTTYPE=ima
 ge/png:https://dq5pwpg1q8ru0.cloudfront.net/2026/04/15/20/20/12/fffa9b25-0
 f2c-4821-88d9-255402d97ff5/Mothers%20Day%20Tea%202026%20poster%20sans%20se
 rif%20font.png
END:VEVENT
END:VCALENDAR
