BEGIN:VCALENDAR
VERSION:2.0
PRODID:icalendar-ruby
CALSCALE:GREGORIAN
METHOD:PUBLISH
BEGIN:VEVENT
DTSTAMP:20260424T184146Z
UID:783-1706430@stphilipvictoria.ca
DTSTART:20260427T020000Z
DTEND:20260427T033000Z
CLASS:PUBLIC
CREATED:20260415T133807
DESCRIPTION:The diocese and all ecumenical partners are invited to a youth 
 and young adult service at St. Peter\, Quamichan (Duncan) on April 26 at 7
  PM. This evening service is intended for those ages 13–30\, and will be
  led by youth and young adults\, with opportunities for participation in r
 eadings\, music\, prayer\, and fellowship.\nThe service is intended to cre
 ate a welcoming space for young people from different parishes to gather i
 n worship\, build connections\, and share in community together. There wil
 l be a social time following the service\, with refreshments.
LAST-MODIFIED:20260415T133807
LOCATION:St. Peter\, Quamichan 5800 Church Road  North Cowichan\, BC  Canad
 a V9L 5M3 
SUMMARY:St Peter's Quamichan: Youth & Young Adult Service
URL;VALUE=URI:https://www.stphilipvictoria.ca/events/st-peters-quamichan-yo
 uth-young-adult-service/2026-04-26
ATTACH;FILENAME=Youth and Young Adult Service.png;FMTTYPE=image/png:https:/
 /dq5pwpg1q8ru0.cloudfront.net/2026/02/21/04/54/42/b69ac61c-436f-4bac-ba36-
 1fa25d41f804/Youth%20and%20Young%20Adult%20Service.png
END:VEVENT
END:VCALENDAR
